BEGIN:VCALENDAR
VERSION:2.0
PRODID:-//BRUCE IN THE USA - ECPv6.15.20//NONSGML v1.0//EN
CALSCALE:GREGORIAN
METHOD:PUBLISH
X-WR-CALNAME:BRUCE IN THE USA
X-ORIGINAL-URL:https://www.bruceintheusa.com
X-WR-CALDESC:Events for BRUCE IN THE USA
REFRESH-INTERVAL;VALUE=DURATION:PT1H
X-Robots-Tag:noindex
X-PUBLISHED-TTL:PT1H
BEGIN:VTIMEZONE
TZID:America/New_York
BEGIN:DAYLIGHT
TZOFFSETFROM:-0500
TZOFFSETTO:-0400
TZNAME:EDT
DTSTART:20250309T070000
END:DAYLIGHT
BEGIN:STANDARD
TZOFFSETFROM:-0400
TZOFFSETTO:-0500
TZNAME:EST
DTSTART:20251102T060000
END:STANDARD
BEGIN:DAYLIGHT
TZOFFSETFROM:-0500
TZOFFSETTO:-0400
TZNAME:EDT
DTSTART:20260308T070000
END:DAYLIGHT
BEGIN:STANDARD
TZOFFSETFROM:-0400
TZOFFSETTO:-0500
TZNAME:EST
DTSTART:20261101T060000
END:STANDARD
BEGIN:DAYLIGHT
TZOFFSETFROM:-0500
TZOFFSETTO:-0400
TZNAME:EDT
DTSTART:20270314T070000
END:DAYLIGHT
BEGIN:STANDARD
TZOFFSETFROM:-0400
TZOFFSETTO:-0500
TZNAME:EST
DTSTART:20271107T060000
END:STANDARD
END:VTIMEZONE
BEGIN:VEVENT
DTSTART;TZID=America/New_York:20260424T193000
DTEND;TZID=America/New_York:20260424T223000
DTSTAMP:20260423T195446
CREATED:20260302T162259Z
LAST-MODIFIED:20260306T182030Z
UID:10000041-1777059000-1777069800@www.bruceintheusa.com
SUMMARY:Warner Theatre's  Oneglia Auditorium
DESCRIPTION:BRUCE IN THE USA The Worlds #1 Bruce Springsteen Tribute Show will be performing in Torrington\, CT on April 24th\, 2026 7:30pm at the Warner Theatre’s Oneglia Auditorium. \nWarner Theatre\nOneglia Auditorium\n68 Main Street\nTorrington\, CT 06790 \nTicket: https://www.warnertheatre.org/events/bruceintheusa/ \n 
URL:https://www.bruceintheusa.com/event/warner-theatres-oneglia-auditorium/
LOCATION:Warner Theatre – Oneglia Auditorium\, 68 Main Street\, Torrington\, CT\, 06790\, United States
CATEGORIES:BRUCE IN THE USA,Bruce Springsteen,Live Event,Public Event
ATTACH;FMTTYPE=image/webp:https://www.bruceintheusa.com/wp-content/uploads/2026/03/Facebook-Ad.webp
END:VEVENT
BEGIN:VEVENT
DTSTART;TZID=America/New_York:20260428T193000
DTEND;TZID=America/New_York:20260428T223000
DTSTAMP:20260423T195446
CREATED:20260302T163744Z
LAST-MODIFIED:20260306T182054Z
UID:10000035-1777404600-1777415400@www.bruceintheusa.com
SUMMARY:Warner Theatre - Erie Pennsylvania
DESCRIPTION:Bruce In The USA – The Worlds #1 Tribute to Bruce Springsteen and the E Street Band will be performing at the Warner Theatre in Erie\, PA on Tuesday April 28th\, 2026. \nTickets on sale NOW! at https://www.eriewarnertheatre.com \nWarner Theatre\n811 State Street\nErie\, PA 16501\n(814) 453-7117 \nhttps://www.eriewarnertheatre.com/ \n  \n 
URL:https://www.bruceintheusa.com/event/warner-theatre-erie-pennsylvania/
LOCATION:Warner Theatre – Erie\, PA\, 811 State St\, Erie\, PA\, 16501\, United States
CATEGORIES:BRUCE IN THE USA,Bruce Springsteen,Live Event,Public Event
ATTACH;FMTTYPE=image/webp:https://www.bruceintheusa.com/wp-content/uploads/2026/03/Bruce-Erie-OSN.webp
END:VEVENT
BEGIN:VEVENT
DTSTART;TZID=America/New_York:20260429T200000
DTEND;TZID=America/New_York:20260429T223000
DTSTAMP:20260423T195446
CREATED:20260413T185045Z
LAST-MODIFIED:20260423T224449Z
UID:10000036-1777492800-1777501800@www.bruceintheusa.com
SUMMARY:CANCELED-The Oncenter Crouse Hinds Theater - Syracuse\, NY
DESCRIPTION:Bruce In The USA – The Worlds #1 Tribute to Bruce Springsteen and the E Street Band will be performing at The Oncenter Crouse Hinds Theater in Syracuse\, NY on Wednesday April 29th\, 2026. \nTHIS EVENT HAS BEEN CANCELED. WE HOPE TO RESCHEDULE IN THE FUTURE.\nThe Oncenter\nCrouse Hinds Theater\n411 Montgomery St\, \nSyracuse\, NY 13202 \n 
URL:https://www.bruceintheusa.com/event/the-oncenter-crouse-hinds-theater-syracuse-ny-2/
LOCATION:The Oncenter Crouse Hinds Theater\, 411 Montgomery St\, Syracuse\, NY\, 13202\, United States
CATEGORIES:BRUCE IN THE USA,Bruce Springsteen,Live Event,Public Event
ATTACH;FMTTYPE=image/webp:https://www.bruceintheusa.com/wp-content/uploads/2026/03/1080x1350-OSN.webp
END:VEVENT
BEGIN:VEVENT
DTSTART;TZID=America/New_York:20260430T200000
DTEND;TZID=America/New_York:20260430T223000
DTSTAMP:20260423T195446
CREATED:20260302T164126Z
LAST-MODIFIED:20260306T182201Z
UID:10000037-1777579200-1777588200@www.bruceintheusa.com
SUMMARY:West Herr Auditorium - Rochester\, NY
DESCRIPTION:Bruce In The USA – The Worlds #1 Tribute to Bruce Springsteen and the E Street Band will be performing at the West Herr Auditorium in Rochester\, NY on Thursday April 30th\, 2026. \nTickets on sale NOW at Ticket Master \nWEST HERR AUDITORIUM THEATRE\n885 EAST MAIN STREET\nROCHESTER\, NY 14605 \n 
URL:https://www.bruceintheusa.com/event/west-herr-auditorium-rochester-ny/
LOCATION:West Herr Auditorium – Rochester\, NY\, 885 East Main Street\, Rochester\, NY\, 14605\, United States
CATEGORIES:BRUCE IN THE USA,Bruce Springsteen,Live Event,Public Event
ATTACH;FMTTYPE=image/webp:https://www.bruceintheusa.com/wp-content/uploads/2026/02/Bruce-Rochester-OSF-1080x1080.png-on-sale-friday.webp
END:VEVENT
BEGIN:VEVENT
DTSTART;TZID=America/New_York:20260502T200000
DTEND;TZID=America/New_York:20260502T223000
DTSTAMP:20260423T195446
CREATED:20260423T215650Z
LAST-MODIFIED:20260423T222005Z
UID:10000038-1777752000-1777761000@www.bruceintheusa.com
SUMMARY:CANCELED-Santander PAC - Reading\, PA
DESCRIPTION:Bruce In The USA – The Worlds #1 Tribute to Bruce Springsteen and the E Street Band will be performing at the Santander Performing Arts Center in Reading\, PA on Saturday May 2nd\, 2026. \nTHIS EVENT HAS BEEN CANCELED. WE HOPE TO RESCHEDULE IN THE FUTURE.\n  \nSantander Performing Arts Center\n136 North 6th Street \, Reading\, PA 19601 \n 
URL:https://www.bruceintheusa.com/event/santander-performing-arts-center-reading-pa-2/
LOCATION:Santander Performing Arts Center – Reading\, PA\, 136 North 6th Street\, Reading\, PA\, 19601\, United States
CATEGORIES:BRUCE IN THE USA,Bruce Springsteen,Live Event,Public Event
ATTACH;FMTTYPE=image/webp:https://www.bruceintheusa.com/wp-content/uploads/2026/02/bruce-osn-.jpg-reading-26.webp
END:VEVENT
BEGIN:VEVENT
DTSTART;TZID=America/New_York:20260612T200000
DTEND;TZID=America/New_York:20260612T220000
DTSTAMP:20260423T195446
CREATED:20260422T214048Z
LAST-MODIFIED:20260422T214048Z
UID:10000043-1781294400-1781301600@www.bruceintheusa.com
SUMMARY:Ocean Downs Casino on Friday June 12th\, 2026
DESCRIPTION:BRUCE IN THE USA will be performing at Ocean Downs Casino on Friday June 12th\, 2026 at 8PM. This is a FREE Live outdoor event. So come and join the Big Boss Party!!! \nBruce in the USA – FREE OUTDOOR SHOW! \n \nOcean Downs Casino\n10218 Racetrack Road\,\nBerlin\, MD 21811
URL:https://www.bruceintheusa.com/event/ocean-downs-casino-on-friday-june-12th-2026/
LOCATION:Ocean Downs Casino-Berlin-MD\, 10218 Racetrack Road\, Berlin\, MD\, 21811\, United States
CATEGORIES:BRUCE IN THE USA,Bruce Springsteen,Live Event,Public Event
ATTACH;FMTTYPE=image/webp:https://www.bruceintheusa.com/wp-content/uploads/2026/04/OD-65433-Bruce_inthe_USA_Concert_GFX_DigiGFX-1120-x-610-1.webp
END:VEVENT
BEGIN:VEVENT
DTSTART;TZID=America/New_York:20260614T190000
DTEND;TZID=America/New_York:20260614T220000
DTSTAMP:20260423T195446
CREATED:20260218T202110Z
LAST-MODIFIED:20260218T202110Z
UID:10000033-1781463600-1781474400@www.bruceintheusa.com
SUMMARY:Carolina Opry June 14th\, 2026
DESCRIPTION:Bruce In The USA performs at the Carolina Opry Theatre on Sunday June 14th at 7:00 PM. \nGet your tickets online or at the Carolina Opry Theatre Box Office. \nTickets: https://thecarolinaopry.com/event/bruce-in-the-usa/ \nThe Carolina Opry\n8901 N Kings Hwy\,\nMyrtle Beach\, SC\, 29572
URL:https://www.bruceintheusa.com/event/carolina-opry-june-14th-2026/
LOCATION:The Carolina Opry Theatre\, 8901 N Kings Hwy\, Myrtle Beach\, SC\, 29572\, United States
CATEGORIES:BRUCE IN THE USA,Bruce Springsteen,Live Event,Public Event
ATTACH;FMTTYPE=image/jpeg:https://www.bruceintheusa.com/wp-content/uploads/2025/07/IMG_3149.jpeg
END:VEVENT
BEGIN:VEVENT
DTSTART;TZID=America/New_York:20260627T110000
DTEND;TZID=America/New_York:20260627T230000
DTSTAMP:20260423T195446
CREATED:20260218T205706Z
LAST-MODIFIED:20260306T182611Z
UID:10000034-1782558000-1782601200@www.bruceintheusa.com
SUMMARY:Thunder in the Valley Concert & Fireworks
DESCRIPTION:Thunder in the Valley Concert & Fireworks June 27th\, 2026 all day event. Bruce In the USA will headline this event and perform at 8:PM. Event takes place at Molitoris Farm and benefits the Children’s Miracle Network Hospital. \nTickets: https://givebutter.com/ThunderintheValley \nEvent Website: https://www.thunderinthevalleyma.com/thunder \nEvent Location: \nMolitoris Farms\n95 Park Hill Rd\nEasthampton\, MA 01027 \n 
URL:https://www.bruceintheusa.com/event/thunder-in-the-valley-concert-fireworks/
LOCATION:Thunder in the Valley Concert & Fireworks – Molitoris Farm \, 95 Park Hill Rd\, Easthampton\, MA\, 01027\, United States
CATEGORIES:BRUCE IN THE USA,Bruce Springsteen,Live Event,Public Event
ATTACH;FMTTYPE=image/jpeg:https://www.bruceintheusa.com/wp-content/uploads/2026/02/OQWw2aC3NBpvL8B6w88oNAb1byxZmB6mIwWDySBy.jpg
END:VEVENT
BEGIN:VEVENT
DTSTART;TZID=America/New_York:20260706T190000
DTEND;TZID=America/New_York:20260706T220000
DTSTAMP:20260423T195446
CREATED:20260411T184435Z
LAST-MODIFIED:20260411T184435Z
UID:10000042-1783364400-1783375200@www.bruceintheusa.com
SUMMARY:Ocean City Music Pier July 6\, 2026
DESCRIPTION:Bruce In The USA\, The Worlds #1 Tribute to Bruce Springsteen and the E Street Band will be performing in Ocean City\, New Jersey on Monday July 6th\, 2026 at the Ocean City Music Pier. Tickets are on sale now. \nOcean City Music Pier\n825 Boardwalk\nOcean City\, NJ 08226 \nClick here for TICKETS
URL:https://www.bruceintheusa.com/event/ocean-city-music-pier-july-6-2026-bruce-in-the-usa/
LOCATION:Ocean City Music Pier\, 840 E. Sixth Street\, Ocean City\, NJ\, 08226\, United States
CATEGORIES:BRUCE IN THE USA,Bruce Springsteen,Live Event,Public Event
ATTACH;FMTTYPE=image/webp:https://www.bruceintheusa.com/wp-content/uploads/2026/04/OCNJ.webp
END:VEVENT
END:VCALENDAR