BEGIN:VCALENDAR
VERSION:2.0
PRODID:-//BRUCE IN THE USA - ECPv6.15.20//NONSGML v1.0//EN
CALSCALE:GREGORIAN
METHOD:PUBLISH
X-WR-CALNAME:BRUCE IN THE USA
X-ORIGINAL-URL:https://www.bruceintheusa.com
X-WR-CALDESC:Events for BRUCE IN THE USA
REFRESH-INTERVAL;VALUE=DURATION:PT1H
X-Robots-Tag:noindex
X-PUBLISHED-TTL:PT1H
BEGIN:VTIMEZONE
TZID:America/New_York
BEGIN:DAYLIGHT
TZOFFSETFROM:-0500
TZOFFSETTO:-0400
TZNAME:EDT
DTSTART:20250309T070000
END:DAYLIGHT
BEGIN:STANDARD
TZOFFSETFROM:-0400
TZOFFSETTO:-0500
TZNAME:EST
DTSTART:20251102T060000
END:STANDARD
BEGIN:DAYLIGHT
TZOFFSETFROM:-0500
TZOFFSETTO:-0400
TZNAME:EDT
DTSTART:20260308T070000
END:DAYLIGHT
BEGIN:STANDARD
TZOFFSETFROM:-0400
TZOFFSETTO:-0500
TZNAME:EST
DTSTART:20261101T060000
END:STANDARD
BEGIN:DAYLIGHT
TZOFFSETFROM:-0500
TZOFFSETTO:-0400
TZNAME:EDT
DTSTART:20270314T070000
END:DAYLIGHT
BEGIN:STANDARD
TZOFFSETFROM:-0400
TZOFFSETTO:-0500
TZNAME:EST
DTSTART:20271107T060000
END:STANDARD
END:VTIMEZONE
BEGIN:VEVENT
DTSTART;TZID=America/New_York:20260428T193000
DTEND;TZID=America/New_York:20260428T223000
DTSTAMP:20260423T124120
CREATED:20260302T163744Z
LAST-MODIFIED:20260306T182054Z
UID:10000035-1777404600-1777415400@www.bruceintheusa.com
SUMMARY:Warner Theatre - Erie Pennsylvania
DESCRIPTION:Bruce In The USA – The Worlds #1 Tribute to Bruce Springsteen and the E Street Band will be performing at the Warner Theatre in Erie\, PA on Tuesday April 28th\, 2026. \nTickets on sale NOW! at https://www.eriewarnertheatre.com \nWarner Theatre\n811 State Street\nErie\, PA 16501\n(814) 453-7117 \nhttps://www.eriewarnertheatre.com/ \n  \n 
URL:https://www.bruceintheusa.com/event/warner-theatre-erie-pennsylvania/
LOCATION:Warner Theatre – Erie\, PA\, 811 State St\, Erie\, PA\, 16501\, United States
CATEGORIES:BRUCE IN THE USA,Bruce Springsteen,Live Event,Public Event
ATTACH;FMTTYPE=image/webp:https://www.bruceintheusa.com/wp-content/uploads/2026/03/Bruce-Erie-OSN.webp
END:VEVENT
BEGIN:VEVENT
DTSTART;TZID=America/New_York:20260502T200000
DTEND;TZID=America/New_York:20260502T223000
DTSTAMP:20260423T124120
CREATED:20260302T164244Z
LAST-MODIFIED:20260306T182408Z
UID:10000038-1777752000-1777761000@www.bruceintheusa.com
SUMMARY:Santander Performing Arts Center - Reading\, PA
DESCRIPTION:Bruce In The USA – The Worlds #1 Tribute to Bruce Springsteen and the E Street Band will be performing at the Santander Performing Arts Center in Reading\, PA on Saturday May 2nd\, 2026. \nTickets on sale NOW at Ticket Master \n  \nSantander Performing Arts Center\n136 North 6th Street \, Reading\, PA 19601 \n 
URL:https://www.bruceintheusa.com/event/santander-performing-arts-center-reading-pa/
LOCATION:Santander Performing Arts Center – Reading\, PA\, 136 North 6th Street\, Reading\, PA\, 19601\, United States
CATEGORIES:BRUCE IN THE USA,Bruce Springsteen,Live Event,Public Event
ATTACH;FMTTYPE=image/webp:https://www.bruceintheusa.com/wp-content/uploads/2026/02/bruce-osn-.jpg-reading-26.webp
END:VEVENT
BEGIN:VEVENT
DTSTART;TZID=America/New_York:20260503T190000
DTEND;TZID=America/New_York:20260503T220000
DTSTAMP:20260423T124120
CREATED:20260302T164432Z
LAST-MODIFIED:20260306T182443Z
UID:10000039-1777834800-1777845600@www.bruceintheusa.com
SUMMARY:Scranton Cultural Center
DESCRIPTION:Bruce In The USA – The Worlds #1 Tribute to Bruce Springsteen and the E Street Band will be performing at the Scranton Cultural Center at the Masonic Temple in Scranton\, PA on Sunday May 3rd\, 2026. \nTickets on sale NOW at Ticket Master \nScranton Cultural Center\n420 N. Washington Avenue\nScranton\, PA 18503 \n 
URL:https://www.bruceintheusa.com/event/scranton-cultural-center/
LOCATION:Scranton Cultural Center\, 420 N. Washington Avenue\, Scranton\, PA\, 18503\, United States
CATEGORIES:BRUCE IN THE USA,Bruce Springsteen,Live Event,Public Event
ATTACH;FMTTYPE=image/webp:https://www.bruceintheusa.com/wp-content/uploads/2026/02/Bruce-in-the-USA-On-Sale-Now-1080x1080-JPEG.jpg-scranton.webp
END:VEVENT
END:VCALENDAR