BEGIN:VCALENDAR
VERSION:2.0
PRODID:-//BRUCE IN THE USA - ECPv6.15.20//NONSGML v1.0//EN
CALSCALE:GREGORIAN
METHOD:PUBLISH
X-ORIGINAL-URL:https://www.bruceintheusa.com
X-WR-CALDESC:Events for BRUCE IN THE USA
REFRESH-INTERVAL;VALUE=DURATION:PT1H
X-Robots-Tag:noindex
X-PUBLISHED-TTL:PT1H
BEGIN:VTIMEZONE
TZID:America/New_York
BEGIN:DAYLIGHT
TZOFFSETFROM:-0500
TZOFFSETTO:-0400
TZNAME:EDT
DTSTART:20250309T070000
END:DAYLIGHT
BEGIN:STANDARD
TZOFFSETFROM:-0400
TZOFFSETTO:-0500
TZNAME:EST
DTSTART:20251102T060000
END:STANDARD
BEGIN:DAYLIGHT
TZOFFSETFROM:-0500
TZOFFSETTO:-0400
TZNAME:EDT
DTSTART:20260308T070000
END:DAYLIGHT
BEGIN:STANDARD
TZOFFSETFROM:-0400
TZOFFSETTO:-0500
TZNAME:EST
DTSTART:20261101T060000
END:STANDARD
BEGIN:DAYLIGHT
TZOFFSETFROM:-0500
TZOFFSETTO:-0400
TZNAME:EDT
DTSTART:20270314T070000
END:DAYLIGHT
BEGIN:STANDARD
TZOFFSETFROM:-0400
TZOFFSETTO:-0500
TZNAME:EST
DTSTART:20271107T060000
END:STANDARD
END:VTIMEZONE
BEGIN:VEVENT
DTSTART;TZID=America/New_York:20260429T200000
DTEND;TZID=America/New_York:20260429T223000
DTSTAMP:20260423T183222
CREATED:20260413T185045Z
LAST-MODIFIED:20260423T220621Z
UID:10000036-1777492800-1777501800@www.bruceintheusa.com
SUMMARY:The Oncenter Crouse Hinds Theater - Syracuse\, NY
DESCRIPTION:Bruce In The USA – The Worlds #1 Tribute to Bruce Springsteen and the E Street Band will be performing at The Oncenter Crouse Hinds Theater in Syracuse\, NY on Wednesday April 29th\, 2026. \nTHIS EVENT HAS BEEN CANCELED. WE HOPE TO RESCHEDULE IN THE FUTURE.\nThe Oncenter\nCrouse Hinds Theater\n411 Montgomery St\, \nSyracuse\, NY 13202 \n 
URL:https://www.bruceintheusa.com/event/the-oncenter-crouse-hinds-theater-syracuse-ny-2/
LOCATION:The Oncenter Crouse Hinds Theater\, 411 Montgomery St\, Syracuse\, NY\, 13202\, United States
CATEGORIES:BRUCE IN THE USA,Bruce Springsteen,Live Event,Public Event
ATTACH;FMTTYPE=image/webp:https://www.bruceintheusa.com/wp-content/uploads/2026/03/1080x1350-OSN.webp
END:VEVENT
END:VCALENDAR