BEGIN:VCALENDAR
VERSION:2.0
PRODID:-//BRUCE IN THE USA - ECPv6.15.20//NONSGML v1.0//EN
CALSCALE:GREGORIAN
METHOD:PUBLISH
X-WR-CALNAME:BRUCE IN THE USA
X-ORIGINAL-URL:https://www.bruceintheusa.com
X-WR-CALDESC:Events for BRUCE IN THE USA
REFRESH-INTERVAL;VALUE=DURATION:PT1H
X-Robots-Tag:noindex
X-PUBLISHED-TTL:PT1H
BEGIN:VTIMEZONE
TZID:America/New_York
BEGIN:DAYLIGHT
TZOFFSETFROM:-0500
TZOFFSETTO:-0400
TZNAME:EDT
DTSTART:20240310T070000
END:DAYLIGHT
BEGIN:STANDARD
TZOFFSETFROM:-0400
TZOFFSETTO:-0500
TZNAME:EST
DTSTART:20241103T060000
END:STANDARD
BEGIN:DAYLIGHT
TZOFFSETFROM:-0500
TZOFFSETTO:-0400
TZNAME:EDT
DTSTART:20250309T070000
END:DAYLIGHT
BEGIN:STANDARD
TZOFFSETFROM:-0400
TZOFFSETTO:-0500
TZNAME:EST
DTSTART:20251102T060000
END:STANDARD
BEGIN:DAYLIGHT
TZOFFSETFROM:-0500
TZOFFSETTO:-0400
TZNAME:EDT
DTSTART:20260308T070000
END:DAYLIGHT
BEGIN:STANDARD
TZOFFSETFROM:-0400
TZOFFSETTO:-0500
TZNAME:EST
DTSTART:20261101T060000
END:STANDARD
END:VTIMEZONE
BEGIN:VEVENT
DTSTART;TZID=America/New_York:20251107T193000
DTEND;TZID=America/New_York:20251107T220000
DTSTAMP:20260423T154402
CREATED:20251023T164133Z
LAST-MODIFIED:20260318T151229Z
UID:10000026-1762543800-1762552800@www.bruceintheusa.com
SUMMARY:Nelson Hall
DESCRIPTION:Bruce In The USA Tribute Show will be performing the music of Bruce Springsteen and the E Street Band for three shows at Nelson Hall in Cheshire\, CT on November 6th and 7th\, 2025. November 6 show is at 7:30 PM and the November 7th shows are at 2:30 PM and 7:30 PM. Tickets: https://nelsonhallelimpark.org/event/bruce-springsteen-bruce-in-the-usa/ \n\n\n\n\n\n\n\n\n\n 
URL:https://www.bruceintheusa.com/event/nelson-hall-2-2/
LOCATION:Nelson Hall\, 150 Cook Hill Road CT 06410\, Cheshire\, CT\, 06410\, United States
CATEGORIES:BRUCE IN THE USA,Bruce Springsteen,Public Event
END:VEVENT
BEGIN:VEVENT
DTSTART;TZID=America/New_York:20250808T153000
DTEND;TZID=America/New_York:20250808T180000
DTSTAMP:20260423T154402
CREATED:20241012T184447Z
LAST-MODIFIED:20260318T154956Z
UID:10000003-1754667000-1754676000@www.bruceintheusa.com
SUMMARY:The Kate
DESCRIPTION:
URL:https://www.bruceintheusa.com/event/the-kate/
LOCATION:The Kate\, 300 Main St\, Old Saybrook\, CT\, 06475\, United States
CATEGORIES:BRUCE IN THE USA,Bruce Springsteen,Past Event,Public Event
END:VEVENT
END:VCALENDAR