BEGIN:VCALENDAR
VERSION:2.0
PRODID:-//BRUCE IN THE USA - ECPv6.15.20//NONSGML v1.0//EN
CALSCALE:GREGORIAN
METHOD:PUBLISH
X-WR-CALNAME:BRUCE IN THE USA
X-ORIGINAL-URL:https://www.bruceintheusa.com
X-WR-CALDESC:Events for BRUCE IN THE USA
REFRESH-INTERVAL;VALUE=DURATION:PT1H
X-Robots-Tag:noindex
X-PUBLISHED-TTL:PT1H
BEGIN:VTIMEZONE
TZID:America/New_York
BEGIN:DAYLIGHT
TZOFFSETFROM:-0500
TZOFFSETTO:-0400
TZNAME:EDT
DTSTART:20240310T070000
END:DAYLIGHT
BEGIN:STANDARD
TZOFFSETFROM:-0400
TZOFFSETTO:-0500
TZNAME:EST
DTSTART:20241103T060000
END:STANDARD
BEGIN:DAYLIGHT
TZOFFSETFROM:-0500
TZOFFSETTO:-0400
TZNAME:EDT
DTSTART:20250309T070000
END:DAYLIGHT
BEGIN:STANDARD
TZOFFSETFROM:-0400
TZOFFSETTO:-0500
TZNAME:EST
DTSTART:20251102T060000
END:STANDARD
BEGIN:DAYLIGHT
TZOFFSETFROM:-0500
TZOFFSETTO:-0400
TZNAME:EDT
DTSTART:20260308T070000
END:DAYLIGHT
BEGIN:STANDARD
TZOFFSETFROM:-0400
TZOFFSETTO:-0500
TZNAME:EST
DTSTART:20261101T060000
END:STANDARD
BEGIN:DAYLIGHT
TZOFFSETFROM:-0500
TZOFFSETTO:-0400
TZNAME:EDT
DTSTART:20270314T070000
END:DAYLIGHT
BEGIN:STANDARD
TZOFFSETFROM:-0400
TZOFFSETTO:-0500
TZNAME:EST
DTSTART:20271107T060000
END:STANDARD
END:VTIMEZONE
BEGIN:VEVENT
DTSTART;TZID=America/New_York:20260117T190000
DTEND;TZID=America/New_York:20260117T223000
DTSTAMP:20260425T094141
CREATED:20251031T203349Z
LAST-MODIFIED:20260318T155529Z
UID:10000028-1768676400-1768689000@www.bruceintheusa.com
SUMMARY:The Cabot Theatre
DESCRIPTION:Bruce In The USA will be performing at the Cabot Theatre in Beverly\, Massachusetts on January 17th\, 2026.\nDoors are at 7PM. \nTickets: https://thecabot.org/event/bruce-in-the-usa/ \nThe Cabot Theatre \n286 Cabot Street \nBeverly\, MA 01915
URL:https://www.bruceintheusa.com/event/the-cabot-theatre/
LOCATION:The Cabot\, 286 Cabot Street\, Beverly\, MA\, 01915\, United States
CATEGORIES:BRUCE IN THE USA,Bruce Springsteen,Live Event,Public Event
ATTACH;FMTTYPE=image/png:https://www.bruceintheusa.com/wp-content/uploads/2025/10/260117_BruceInTheUSA_Square.png
END:VEVENT
BEGIN:VEVENT
DTSTART;TZID=America/New_York:20260116T200000
DTEND;TZID=America/New_York:20260116T223000
DTSTAMP:20260425T094141
CREATED:20251024T053212Z
LAST-MODIFIED:20260318T155502Z
UID:10000023-1768593600-1768602600@www.bruceintheusa.com
SUMMARY:Plymouth Memorial Hall
DESCRIPTION:Bruce In The USA – The Worlds #1 Bruce Springsteen Tribute Show will perform at Plymouth Memorial Hall on Friday January 16th\, 2026 at 8PM. Come out and join the Big Boss Party!!! \nTickets: https://www.etix.com/ticket/p/38461149/bruce-in-the-usa-plymouth-plymouth-memorial-hall \n 
URL:https://www.bruceintheusa.com/event/plymouth-memorial-hall/
LOCATION:Plymouth Memorial Hall\, 83 Court St\, Plymouth\, MA\, 02360\, United States
CATEGORIES:BRUCE IN THE USA,Bruce Springsteen,Public Event
ATTACH;FMTTYPE=image/jpeg:https://www.bruceintheusa.com/wp-content/uploads/2025/07/BRUSA-2025-Promo-10.jpg
END:VEVENT
BEGIN:VEVENT
DTSTART;TZID=America/New_York:20250809T190000
DTEND;TZID=America/New_York:20250809T210000
DTSTAMP:20260425T094141
CREATED:20250719T125811Z
LAST-MODIFIED:20260318T155039Z
UID:10000008-1754766000-1754773200@www.bruceintheusa.com
SUMMARY:BOSTON POPS with special guest Bruce In The USA performing Symphonic Springsteen
DESCRIPTION:
URL:https://www.bruceintheusa.com/event/bruce-in-the-usa-performing-with-the-boston-pops/
LOCATION:Nantucket Cottage Hospital\, 57 Prospect St\, Nantucket\, MA\, 02554\, United States
CATEGORIES:BRUCE IN THE USA,Bruce Springsteen,Past Event,Symphonic Springsteen
END:VEVENT
END:VCALENDAR