BEGIN:VCALENDAR
VERSION:2.0
PRODID:-//BRUCE IN THE USA - ECPv6.15.20//NONSGML v1.0//EN
CALSCALE:GREGORIAN
METHOD:PUBLISH
X-ORIGINAL-URL:https://www.bruceintheusa.com
X-WR-CALDESC:Events for BRUCE IN THE USA
REFRESH-INTERVAL;VALUE=DURATION:PT1H
X-Robots-Tag:noindex
X-PUBLISHED-TTL:PT1H
BEGIN:VTIMEZONE
TZID:America/New_York
BEGIN:DAYLIGHT
TZOFFSETFROM:-0500
TZOFFSETTO:-0400
TZNAME:EDT
DTSTART:20240310T070000
END:DAYLIGHT
BEGIN:STANDARD
TZOFFSETFROM:-0400
TZOFFSETTO:-0500
TZNAME:EST
DTSTART:20241103T060000
END:STANDARD
BEGIN:DAYLIGHT
TZOFFSETFROM:-0500
TZOFFSETTO:-0400
TZNAME:EDT
DTSTART:20250309T070000
END:DAYLIGHT
BEGIN:STANDARD
TZOFFSETFROM:-0400
TZOFFSETTO:-0500
TZNAME:EST
DTSTART:20251102T060000
END:STANDARD
BEGIN:DAYLIGHT
TZOFFSETFROM:-0500
TZOFFSETTO:-0400
TZNAME:EDT
DTSTART:20260308T070000
END:DAYLIGHT
BEGIN:STANDARD
TZOFFSETFROM:-0400
TZOFFSETTO:-0500
TZNAME:EST
DTSTART:20261101T060000
END:STANDARD
BEGIN:DAYLIGHT
TZOFFSETFROM:-0500
TZOFFSETTO:-0400
TZNAME:EDT
DTSTART:20270314T070000
END:DAYLIGHT
BEGIN:STANDARD
TZOFFSETFROM:-0400
TZOFFSETTO:-0500
TZNAME:EST
DTSTART:20271107T060000
END:STANDARD
END:VTIMEZONE
BEGIN:VEVENT
DTSTART;TZID=America/New_York:20260124T200000
DTEND;TZID=America/New_York:20260124T230000
DTSTAMP:20260424T062707
CREATED:20250827T151900Z
LAST-MODIFIED:20260318T155650Z
UID:10000022-1769284800-1769295600@www.bruceintheusa.com
SUMMARY:Rams Head On Stage - Annapolis
DESCRIPTION:BRUCE IN THE USA -Tribute to Bruce Springsteen and the E Street Band will be performing at Ramshead On Stage in Annapolis\, MD on Saturday January 24\, 2025 at 8PM. Come on out and join us for the Big Boss Party!!!! \n\n\n\n\n\n\n\n\n\n 
URL:https://www.bruceintheusa.com/event/rams-head-on-stage-annapolis-2/
LOCATION:Rams Head – Annapolis\, MD\, 33 West Street\, Annapolis\, Maryland\, 21401
CATEGORIES:BRUCE IN THE USA,Bruce Springsteen,Live Event,Public Event
END:VEVENT
BEGIN:VEVENT
DTSTART;TZID=America/New_York:20260123T200000
DTEND;TZID=America/New_York:20260123T230000
DTSTAMP:20260424T062707
CREATED:20250827T151359Z
LAST-MODIFIED:20260318T155628Z
UID:10000021-1769198400-1769209200@www.bruceintheusa.com
SUMMARY:Rams Head On Stage - Annapolis
DESCRIPTION:BRUCE IN THE USA -Tribute to Bruce Springsteen and the E Street Band will be performing at Ramshead On Stage in Annapolis\, MD on Friday January 23\, 2025 at 8PM. Come on out and join us for the Big Boss Party!!!! \n\n\n\n\n\n\n\n\n\n 
URL:https://www.bruceintheusa.com/event/rams-head-on-stage-annapolis/
LOCATION:Rams Head – Annapolis\, MD\, 33 West Street\, Annapolis\, Maryland\, 21401
CATEGORIES:BRUCE IN THE USA,Bruce Springsteen,Live Event,Public Event
END:VEVENT
BEGIN:VEVENT
DTSTART;TZID=America/New_York:20251017T200000
DTEND;TZID=America/New_York:20251017T233000
DTSTAMP:20260424T062707
CREATED:20250719T132344Z
LAST-MODIFIED:20260318T155433Z
UID:10000016-1760731200-1760743800@www.bruceintheusa.com
SUMMARY:Weinberg Center for the Arts
DESCRIPTION:
URL:https://www.bruceintheusa.com/event/weinberg-center-for-the-arts/
LOCATION:Weinberg Center for the Arts\, 20 W Patrick St\, Frederick\, MD\, 21701\, United States
CATEGORIES:BRUCE IN THE USA,Public Event
END:VEVENT
END:VCALENDAR