BEGIN:VCALENDAR
VERSION:2.0
PRODID:-//BRUCE IN THE USA - ECPv6.15.20//NONSGML v1.0//EN
CALSCALE:GREGORIAN
METHOD:PUBLISH
X-ORIGINAL-URL:https://www.bruceintheusa.com
X-WR-CALDESC:Events for BRUCE IN THE USA
REFRESH-INTERVAL;VALUE=DURATION:PT1H
X-Robots-Tag:noindex
X-PUBLISHED-TTL:PT1H
BEGIN:VTIMEZONE
TZID:America/New_York
BEGIN:DAYLIGHT
TZOFFSETFROM:-0500
TZOFFSETTO:-0400
TZNAME:EDT
DTSTART:20240310T070000
END:DAYLIGHT
BEGIN:STANDARD
TZOFFSETFROM:-0400
TZOFFSETTO:-0500
TZNAME:EST
DTSTART:20241103T060000
END:STANDARD
BEGIN:DAYLIGHT
TZOFFSETFROM:-0500
TZOFFSETTO:-0400
TZNAME:EDT
DTSTART:20250309T070000
END:DAYLIGHT
BEGIN:STANDARD
TZOFFSETFROM:-0400
TZOFFSETTO:-0500
TZNAME:EST
DTSTART:20251102T060000
END:STANDARD
BEGIN:DAYLIGHT
TZOFFSETFROM:-0500
TZOFFSETTO:-0400
TZNAME:EDT
DTSTART:20260308T070000
END:DAYLIGHT
BEGIN:STANDARD
TZOFFSETFROM:-0400
TZOFFSETTO:-0500
TZNAME:EST
DTSTART:20261101T060000
END:STANDARD
BEGIN:DAYLIGHT
TZOFFSETFROM:-0500
TZOFFSETTO:-0400
TZNAME:EDT
DTSTART:20270314T070000
END:DAYLIGHT
BEGIN:STANDARD
TZOFFSETFROM:-0400
TZOFFSETTO:-0500
TZNAME:EST
DTSTART:20271107T060000
END:STANDARD
END:VTIMEZONE
BEGIN:VEVENT
DTSTART;TZID=America/New_York:20260221T190000
DTEND;TZID=America/New_York:20260221T223000
DTSTAMP:20260423T171500
CREATED:20251111T225242Z
LAST-MODIFIED:20260318T155800Z
UID:10000030-1771700400-1771713000@www.bruceintheusa.com
SUMMARY:Sellersville Theater
DESCRIPTION:Bruce In The USA – The Worlds #1 Tribute to Bruce Springsteen and the E Street Band will be performing two shows at the Sellersville Theater in Sellersville\, PA on February 20th and 21st\, 2026. Tickets are on sale now at links below: \nFeb 20\, 2026:\nhttps://www.st94.com/events/bruce-in-the-usa-the-worlds-1-tribute-to-bruce-springsteen-the-e-street-band-6/\n\nFeb 21\, 2026:\nhttps://www.st94.com/events/bruce-in-the-usa-the-worlds-1-tribute-to-bruce-springsteen-the-e-street-band-7/\n\nSellersville Theater\n24 West Temple Ave\nSellersville\, PA 18960\n215-257-5808\nhttps://www.st94.com/
URL:https://www.bruceintheusa.com/event/sellersville-theater-3/
LOCATION:Sellersville Theater\, 24 West Temple Ave\, Sellersville\, PA\, 18960\, United States
CATEGORIES:BRUCE IN THE USA,Bruce Springsteen,Live Event,Public Event
END:VEVENT
BEGIN:VEVENT
DTSTART;TZID=America/New_York:20260220T190000
DTEND;TZID=America/New_York:20260220T223000
DTSTAMP:20260423T171500
CREATED:20251111T225131Z
LAST-MODIFIED:20260318T155736Z
UID:10000029-1771614000-1771626600@www.bruceintheusa.com
SUMMARY:Sellersville Theater
DESCRIPTION:Bruce In The USA – The Worlds #1 Tribute to Bruce Springsteen and the E Street Band will be performing two shows at the Sellersville Theater in Sellersville\, PA on February 20th and 21st\, 2026. Tickets are on sale now at links below: \nFeb 20\, 2026:\nhttps://www.st94.com/events/bruce-in-the-usa-the-worlds-1-tribute-to-bruce-springsteen-the-e-street-band-6/\n\nFeb 21\, 2026:\nhttps://www.st94.com/events/bruce-in-the-usa-the-worlds-1-tribute-to-bruce-springsteen-the-e-street-band-7/\n\nSellersville Theater\n24 West Temple Ave\nSellersville\, PA 18960\n215-257-5808\nhttps://www.st94.com/
URL:https://www.bruceintheusa.com/event/sellersville-theater-2/
LOCATION:Sellersville Theater\, 24 West Temple Ave\, Sellersville\, PA\, 18960\, United States
CATEGORIES:BRUCE IN THE USA,Bruce Springsteen,Live Event,Public Event
END:VEVENT
BEGIN:VEVENT
DTSTART;TZID=America/New_York:20250906T170000
DTEND;TZID=America/New_York:20250906T230000
DTSTAMP:20260423T171500
CREATED:20250719T131851Z
LAST-MODIFIED:20260318T155345Z
UID:10000014-1757178000-1757199600@www.bruceintheusa.com
SUMMARY:Palmerton Community Festival Concerts
DESCRIPTION:
URL:https://www.bruceintheusa.com/event/palmerton-community-festival-concerts/
LOCATION:Palmerton Community Festival Concerts\, 305 Delaware Ave\, Palmerton\, PA\, 18071\, United States
CATEGORIES:BRUCE IN THE USA,Bruce Springsteen,Live Event,Public Event
END:VEVENT
BEGIN:VEVENT
DTSTART;TZID=America/New_York:20250816T200000
DTEND;TZID=America/New_York:20250816T230000
DTSTAMP:20260423T171500
CREATED:20250719T130440Z
LAST-MODIFIED:20260318T155133Z
UID:10000010-1755374400-1755385200@www.bruceintheusa.com
SUMMARY:Mount Airy Casino Pocono
DESCRIPTION:
URL:https://www.bruceintheusa.com/event/mount-airy-casino-pocono/
LOCATION:Mount Airy Casino\, 312 Woodland Rd\, Mount Pocono\, PA\, 18344\, United States
CATEGORIES:BRUCE IN THE USA,Bruce Springsteen,Past Event,Public Event
END:VEVENT
BEGIN:VEVENT
DTSTART;TZID=America/New_York:20250411T160000
DTEND;TZID=America/New_York:20250411T190000
DTSTAMP:20260423T171500
CREATED:20241012T184801Z
LAST-MODIFIED:20260318T154705Z
UID:10000004-1744387200-1744398000@www.bruceintheusa.com
SUMMARY:Jergel's Rhythm Grille
DESCRIPTION:
URL:https://www.bruceintheusa.com/event/jergels-rhythm-grille/
LOCATION:Jergel’s Rhythm Grille\, 103 Slade Lane (GPS – use 285 Northgate Drive)\, Warrendale\, PA\, 15086\, United States
CATEGORIES:BRUCE IN THE USA,Bruce Springsteen,Past Event,Public Event
END:VEVENT
END:VCALENDAR