BEGIN:VCALENDAR
VERSION:2.0
PRODID:-//BRUCE IN THE USA - ECPv6.15.20//NONSGML v1.0//EN
CALSCALE:GREGORIAN
METHOD:PUBLISH
X-WR-CALNAME:BRUCE IN THE USA
X-ORIGINAL-URL:https://www.bruceintheusa.com
X-WR-CALDESC:Events for BRUCE IN THE USA
REFRESH-INTERVAL;VALUE=DURATION:PT1H
X-Robots-Tag:noindex
X-PUBLISHED-TTL:PT1H
BEGIN:VTIMEZONE
TZID:America/New_York
BEGIN:DAYLIGHT
TZOFFSETFROM:-0500
TZOFFSETTO:-0400
TZNAME:EDT
DTSTART:20250309T070000
END:DAYLIGHT
BEGIN:STANDARD
TZOFFSETFROM:-0400
TZOFFSETTO:-0500
TZNAME:EST
DTSTART:20251102T060000
END:STANDARD
BEGIN:DAYLIGHT
TZOFFSETFROM:-0500
TZOFFSETTO:-0400
TZNAME:EDT
DTSTART:20260308T070000
END:DAYLIGHT
BEGIN:STANDARD
TZOFFSETFROM:-0400
TZOFFSETTO:-0500
TZNAME:EST
DTSTART:20261101T060000
END:STANDARD
BEGIN:DAYLIGHT
TZOFFSETFROM:-0500
TZOFFSETTO:-0400
TZNAME:EDT
DTSTART:20270314T070000
END:DAYLIGHT
BEGIN:STANDARD
TZOFFSETFROM:-0400
TZOFFSETTO:-0500
TZNAME:EST
DTSTART:20271107T060000
END:STANDARD
END:VTIMEZONE
BEGIN:VEVENT
DTSTART;TZID=America/New_York:20260118T190000
DTEND;TZID=America/New_York:20260118T220000
DTSTAMP:20260424T121208
CREATED:20251024T053525Z
LAST-MODIFIED:20260318T155559Z
UID:10000024-1768762800-1768773600@www.bruceintheusa.com
SUMMARY:Nashua Center for the Arts
DESCRIPTION:Bruce In The USA Tribute Show will be performing at the Nashua Center for the Arts Sunday January 18th\, 2026 at 7PM. Join the Worlds #1 Tribute to Bruce Springsteen and the E Street Band for a night of great music and great big fun! \nIt’s Gonna be a Big Boss Party!!! \n  \nTickets: https://www.etix.com/ticket/p/68655896/bruce-in-the-usa-nashua-nashua-center-for-the-arts
URL:https://www.bruceintheusa.com/event/nashua-center-for-the-arts/
LOCATION:Nashua Center for the Arts\, 201 Main Street\, Nashua\, NH\, 03060
CATEGORIES:BRUCE IN THE USA,Bruce Springsteen,Public Event
END:VEVENT
END:VCALENDAR